BEGIN:VCALENDAR
VERSION:2.0
PRODID:-//eventon.com NONSGML v1.0//EN
BEGIN:VEVENT
UID:69e88505b5f26
DTSTAMP:20260422T102125
DTSTART:20220814
DTEND:20220904
TZID:Europe/Berlin
LOCATION:
SUMMARY:Stadtradeln
DESCRIPTION: Stadtradeln\nhttps://www.stadtmarketing-meinerzhagen.de/events/stadtradeln/
URL:https://www.stadtmarketing-meinerzhagen.de/events/stadtradeln/
END:VEVENT
END:VCALENDAR